BEGIN:VCALENDAR
TZID:America/New_York
BEGIN:VEVENT
CLASS:PUBLIC
CREATED:20260424T171900
DESCRIPTION:Back for our 2025 Clean Water Fes, we are offering a bike tour of our 288-acre Southerly treatment plant! Stop and learn more about the process along the way, and be sure to visit all our Clean Water Festivities before or after your ride!\n<ul class="ulclassa">\n 	<li>Riders must bring their own bike and helmet, no exceptions.</li>\n 	<li>Mountain bikes or hybrid models preferred due to loose gravel or compacted dirt in some areas</li>\n 	<li>If driving your car to the event, please allow additional time for parking.</li>\n 	<li>The tour will depart from its starting location promptly at 11:00. Ride lasts approximately 90 minutes.</li>\n 	<li>Helmets required</li>\n 	<li>Hard-sole closed-toe shoes required</li>\n 	<li><strong>Ages 13 and older only. This route is for experienced riders.</strong></li>\n 	<li>Tour will be conducted at the discretion of our Southerly management (rain or unsafe conditions may require a course change or cancellation)</li>\n 	<li>Rider must be capable of biking approximately <strong>5.5 miles</strong> (Actual course to be determined) with some partial hills.</li>\n 	<li>Rider must be comfortable not having bike racks available at every stop along the route (For example, if you don't have a kickstand, you may have to lay your bike down for select stops)</li>\n 	<li>1 other bike tour options also available: 1:00 p.m.</li>\n 	<li>Where to meet and the other day of details will be emailed out to those attending.</li>\n</ul>\n<h2><strong>Riding to the event? Get your bike route!</strong></h2>\n<a target="_blank" href="https://ridewithgps.com/routes/24999900" rel="noopener">From the north</a> | <a href="https://ridewithgps.com/routes/25000080">From the south</a> | <a href="https://ridewithgps.com/routes/25000802">From the west</a> | <a href="https://ridewithgps.com/routes/25001080">From the east </a>
DTEND:20250920T130000
DTSTAMP:20260424T171900
DTSTART:20250920T110000
LAST-MODIFIED:20091109T101015
LOCATION:Starts and ends at our Environmental & Maintenance Services Center flag pole, 4747 East 49th Street, Cuyahoga Heights, OH, 44125
SUMMARY;LANGUAGE=en-us:Clean Water Fest 2025 Bike Tour (11am-1pm)
BEGIN:VALARM
TRIGGER:-PT1440M
ACTION:DISPLAY
DESCRIPTION:Reminder
END:VALARM
END:VEVENT
END:VCALENDAR
