BEGIN:VCALENDAR
TZID:America/New_York
BEGIN:VEVENT
CLASS:PUBLIC
CREATED:20260424T044537
DESCRIPTION:Our workshop will provide an overview of our Green Infrastructure Grant program and offer experts and resources to help you understand your opportunities and expectations.\n\nTopics will include grant eligibility, contracts, project evaluation and criteria, reimbursement, and sample successful projects. We will also offer a tour of the stormwater control measures featured on-site at the Watershed Stewardship Center at West Creek.<strong></strong><strong></strong>
DTEND:20180629T111500
DTSTAMP:20260424T044537
DTSTART:20180629T090000
LAST-MODIFIED:20091109T101015
LOCATION:Watershed Stewardship Center at West Creek, 2277 West Ridgewood Drive, Parma, Ohio, 44134
SUMMARY;LANGUAGE=en-us:Green Infrastructure Grant Program Pre-Proposal Workshop
BEGIN:VALARM
TRIGGER:-PT1440M
ACTION:DISPLAY
DESCRIPTION:Reminder
END:VALARM
END:VEVENT
END:VCALENDAR
